BEGIN:VCALENDAR
VERSION:2.0
PRODID:SchoolNow
CALSCALE:GREGORIAN
BEGIN:VEVENT
UID:aa578caa-1dda-11eb-a5ef-12274c45d765
DTSTAMP:20201103T134416Z
SUMMARY:School Committee Policy Sub Committee Meeting - REMOTE MEETING ONLI
 NE
URL;VALUE=URI:https://www.norwood.k12.ma.us/sc/calendar/2487693/school-comm
 ittee-policy-sub-committee-meeting-remote-meeting-online
DTSTART:20201119T180000Z
DTEND:20201119T190000Z
END:VEVENT
END:VCALENDAR
