BEGIN:VCALENDAR
VERSION:2.0
PRODID:SchoolNow
CALSCALE:GREGORIAN
BEGIN:VEVENT
UID:ce714e06-25b8-11eb-8e2f-12a12547cc81
DTSTAMP:20201113T140203Z
SUMMARY:School Committee Budget Sub Committee Meeting - REMOTE MEETING ONLI
 NE
URL;VALUE=URI:https://www.norwood.k12.ma.us/sc/calendar/2496057/school-comm
 ittee-budget-sub-committee-meeting-remote-meeting-online
DTSTART:20201118T190000Z
DTEND:20201118T200000Z
END:VEVENT
END:VCALENDAR
