BEGIN:VCALENDAR
VERSION:2.0
PRODID:SchoolNow
CALSCALE:GREGORIAN
BEGIN:VEVENT
UID:e07f657e-25b8-11eb-8e4c-12a12547cc81
DTSTAMP:20201113T140233Z
SUMMARY:School Committee Meeting - Executive Session - REMOTE MEETING ONLIN
 E
URL;VALUE=URI:https://www.norwood.k12.ma.us/sc/calendar/2496059/school-comm
 ittee-meeting-executive-session-remote-meeting-online
DTSTART:20201118T230000Z
DTEND:20201119T000000Z
END:VEVENT
END:VCALENDAR
