BEGIN:VCALENDAR
VERSION:2.0
PRODID:SchoolNow
CALSCALE:GREGORIAN
BEGIN:VEVENT
UID:e7f30800-3333-11eb-9c9e-0a0a41a99b13
DTSTAMP:20201201T134016Z
SUMMARY:School Committee Meeting - Executive Session - REMOTE MEETING ONLIN
 E
URL;VALUE=URI:https://www.norwood.k12.ma.us/sc/calendar/2505398/school-comm
 ittee-meeting-meeting-location-tbd-clone
DTSTART:20201202T230000Z
DTEND:20201203T000000Z
END:VEVENT
END:VCALENDAR
