BEGIN:VCALENDAR
VERSION:2.0
PRODID:SchoolNow
CALSCALE:GREGORIAN
BEGIN:VEVENT
UID:124b0c2e-3334-11eb-97c6-0a0a41a99b13
DTSTAMP:20201201T134027Z
SUMMARY:School Committee  - Budget Subcommittee Meeting - REMOTE MEETING ON
 LINE
URL;VALUE=URI:https://www.norwood.k12.ma.us/sc/calendar/2505400/school-comm
 ittee-meeting-meeting-location-tbd-clone-clone
DTSTART:20201207T203000Z
DTEND:20201207T213000Z
END:VEVENT
END:VCALENDAR
