BEGIN:VCALENDAR
VERSION:2.0
PRODID:SchoolNow
CALSCALE:GREGORIAN
BEGIN:VEVENT
UID:f27496b4-3e31-11eb-adfa-0a5438e4f5b7
DTSTAMP:20201215T141406Z
SUMMARY:School Committee Meeting - Executive Session - REMOTE MEETING ONLIN
 E
URL;VALUE=URI:https://www.norwood.k12.ma.us/sc/calendar/2511745/school-comm
 ittee-meeting-meeting-location-tbd-clone
DTSTART:20201216T230000Z
DTEND:20201217T000000Z
END:VEVENT
END:VCALENDAR
