BEGIN:VCALENDAR
VERSION:2.0
PRODID:SchoolNow
CALSCALE:GREGORIAN
BEGIN:VEVENT
UID:f9abf094-3e31-11eb-80c1-0a5438e4f5b7
DTSTAMP:20201215T141349Z
SUMMARY:School Committee Meeting - Executive Session - REMOTE MEETING ONLIN
 E
URL;VALUE=URI:https://www.norwood.k12.ma.us/sc/calendar/2511746/school-comm
 ittee-meeting-meeting-location-tbd-clone-clone
DTSTART:20210113T230000Z
DTEND:20210114T000000Z
END:VEVENT
END:VCALENDAR
