BEGIN:VCALENDAR
VERSION:2.0
PRODID:SchoolNow
CALSCALE:GREGORIAN
BEGIN:VEVENT
UID:0af2da20-3e32-11eb-9af6-0aafb1cd3ed5
DTSTAMP:20201215T141417Z
SUMMARY:School Committee Meeting - Executive Session - REMOTE MEETING ONLIN
 E
URL;VALUE=URI:https://www.norwood.k12.ma.us/sc/calendar/2511786/school-comm
 ittee-meeting-meeting-location-tbd-clone-clone
DTSTART:20210127T230000Z
DTEND:20210128T000000Z
END:VEVENT
END:VCALENDAR
