BEGIN:VCALENDAR
VERSION:2.0
PRODID:SchoolNow
CALSCALE:GREGORIAN
BEGIN:VEVENT
UID:8442c192-4936-11eb-a34d-0a7ab6600999
DTSTAMP:20201228T180006Z
SUMMARY:Special School Committee Meeting - REMOTE MEETING ONLINE
URL;VALUE=URI:https://www.norwood.k12.ma.us/sc/calendar/2516979/school-comm
 ittee-meeting-meeting-location-tbd-clone
DTSTART:20201230T173000Z
DTEND:20201230T183000Z
END:VEVENT
END:VCALENDAR
