BEGIN:VCALENDAR
VERSION:2.0
PRODID:SchoolNow
CALSCALE:GREGORIAN
BEGIN:VEVENT
UID:fde487d4-5411-11eb-b72d-0ecf1b7e1655
DTSTAMP:20210323T124634Z
SUMMARY:School Committee Meeting - Public Budget Hearing - REMOTE MEETING O
 NLINE
URL;VALUE=URI:https://www.norwood.k12.ma.us/sc/calendar/2522471/school-comm
 ittee-meeting-budget-hearing-remote-meeting-online
DTSTART:20210401T000500Z
DTEND:20210401T010500Z
END:VEVENT
END:VCALENDAR
