BEGIN:VCALENDAR
VERSION:2.0
PRODID:SchoolNow
CALSCALE:GREGORIAN
BEGIN:VEVENT
UID:66b2918c-55d1-11eb-a813-0a9058177237
DTSTAMP:20210113T185902Z
SUMMARY:School Committee Budget Sub Committee Meeting - REMOTE MEETING ONLI
 NE
URL;VALUE=URI:https://www.norwood.k12.ma.us/sc/calendar/2524806/school-comm
 ittee-budget-sub-committee-meeting-remote-meeting-online
DTSTART:20210122T180000Z
DTEND:20210122T190000Z
END:VEVENT
END:VCALENDAR
