BEGIN:VCALENDAR
VERSION:2.0
PRODID:SchoolNow
CALSCALE:GREGORIAN
BEGIN:VEVENT
UID:058d11dc-6172-11eb-af10-029714dca001
DTSTAMP:20210128T140631Z
SUMMARY:School Committee Policy Sub Committee Meeting - REMOTE MEETING ONLI
 NE
URL;VALUE=URI:https://www.norwood.k12.ma.us/sc/calendar/2531748/school-comm
 ittee-policy-sub-committee-meeting-remote-meeting-online
DTSTART:20210203T190000Z
DTEND:20210203T200000Z
END:VEVENT
END:VCALENDAR
