BEGIN:VCALENDAR
VERSION:2.0
PRODID:SchoolNow
CALSCALE:GREGORIAN
BEGIN:VEVENT
UID:1c79dc36-6172-11eb-a795-029714dca001
DTSTAMP:20210128T140709Z
SUMMARY:School Committee Meeting Executive Session - REMOTE MEETING ONLINE
URL;VALUE=URI:https://www.norwood.k12.ma.us/sc/calendar/2531750/school-comm
 ittee-meeting-executive-session-remote-meeting-online
DTSTART:20210210T230000Z
DTEND:20210211T000000Z
END:VEVENT
END:VCALENDAR
