BEGIN:VCALENDAR
VERSION:2.0
PRODID:SchoolNow
CALSCALE:GREGORIAN
BEGIN:VEVENT
UID:2e680f1c-6172-11eb-9ee7-029714dca001
DTSTAMP:20210128T140739Z
SUMMARY:School Committee Meeting Executive Session - REMOTE MEETING ONLINE
URL;VALUE=URI:https://www.norwood.k12.ma.us/sc/calendar/2531752/school-comm
 ittee-meeting-executive-session-remote-meeting-online
DTSTART:20210224T230000Z
DTEND:20210225T000000Z
END:VEVENT
END:VCALENDAR
