BEGIN:VCALENDAR
VERSION:2.0
PRODID:SchoolNow
CALSCALE:GREGORIAN
BEGIN:VEVENT
UID:3a080412-6172-11eb-9003-029714dca001
DTSTAMP:20210304T190041Z
SUMMARY:School Committee Meeting Executive Session - REMOTE MEETING ONLINE 
 - CANCELLED
URL;VALUE=URI:https://www.norwood.k12.ma.us/sc/calendar/2531754/school-comm
 ittee-meeting-executive-session-remote-meeting-online
DTSTART:20210310T230000Z
DTEND:20210311T000000Z
END:VEVENT
END:VCALENDAR
