BEGIN:VCALENDAR
VERSION:2.0
PRODID:SchoolNow
CALSCALE:GREGORIAN
BEGIN:VEVENT
UID:4b4b0134-6172-11eb-b51c-029714dca001
DTSTAMP:20210324T123739Z
SUMMARY:School Committee Meeting Executive Session - CANCELLED
URL;VALUE=URI:https://www.norwood.k12.ma.us/sc/calendar/2531756/school-comm
 ittee-meeting-executive-session-remote-meeting-online
DTSTART:20210324T220000Z
DTEND:20210324T230000Z
END:VEVENT
END:VCALENDAR
