BEGIN:VCALENDAR
VERSION:2.0
PRODID:SchoolNow
CALSCALE:GREGORIAN
BEGIN:VEVENT
UID:584d05f8-6172-11eb-b6b6-029714dca001
DTSTAMP:20210330T115532Z
SUMMARY:School Committee Meeting Executive Session - REMOTE MEETING ONLINE
URL;VALUE=URI:https://www.norwood.k12.ma.us/sc/calendar/2531758/school-comm
 ittee-meeting-executive-session-remote-meeting-online
DTSTART:20210331T224500Z
DTEND:20210331T230000Z
END:VEVENT
END:VCALENDAR
