BEGIN:VCALENDAR
VERSION:2.0
PRODID:SchoolNow
CALSCALE:GREGORIAN
BEGIN:VEVENT
UID:86c7f6c2-6181-11eb-ba1f-0ab03a97558d
DTSTAMP:20210128T155730Z
SUMMARY:Middle School Building Project Community Forum - REMOTE MEETING ONL
 INE
URL;VALUE=URI:https://www.norwood.k12.ma.us/sc/calendar/2531765/middle-scho
 ol-building-project-community-forum-remote-meeting-online
DTSTART:20210318T230000Z
DTEND:20210319T000000Z
END:VEVENT
END:VCALENDAR
