BEGIN:VCALENDAR
VERSION:2.0
PRODID:SchoolNow
CALSCALE:GREGORIAN
BEGIN:VEVENT
UID:b41e9754-72cd-11eb-bf94-023551da196f
DTSTAMP:20210219T161538Z
SUMMARY:School Committee Meeting Budget Subcommittee - REMOTE MEETING ONLIN
 E
URL;VALUE=URI:https://www.norwood.k12.ma.us/sc/calendar/2543283/school-comm
 ittee-meeting-executive-session-remote-meeting-online-clone
DTSTART:20210226T173000Z
DTEND:20210226T183000Z
END:VEVENT
END:VCALENDAR
