BEGIN:VCALENDAR
VERSION:2.0
PRODID:SchoolNow
CALSCALE:GREGORIAN
BEGIN:VEVENT
UID:c7a75a22-72cd-11eb-ae30-023551da196f
DTSTAMP:20210219T161610Z
SUMMARY:School Committee Meeting Executive Session - REMOTE MEETING ONLINE
URL;VALUE=URI:https://www.norwood.k12.ma.us/sc/calendar/2543286/school-comm
 ittee-meeting-executive-session-remote-meeting-online-clone
DTSTART:20210303T230000Z
DTEND:20210304T000000Z
END:VEVENT
END:VCALENDAR
