BEGIN:VCALENDAR
VERSION:2.0
PRODID:SchoolNow
CALSCALE:GREGORIAN
BEGIN:VEVENT
UID:8c2cf428-7513-11eb-8aaf-02c34e150523
DTSTAMP:20210222T134038Z
SUMMARY:School Committee Budget Sub Committee Meeting - REMOTE MEETING ONLI
 NE
URL;VALUE=URI:https://www.norwood.k12.ma.us/sc/calendar/2544446/school-comm
 ittee-budget-sub-committee-meeting-remote-meeting-online
DTSTART:20210226T173000Z
DTEND:20210226T183000Z
END:VEVENT
END:VCALENDAR
