BEGIN:VCALENDAR
VERSION:2.0
PRODID:SchoolNow
CALSCALE:GREGORIAN
BEGIN:VEVENT
UID:9e4d0238-7513-11eb-896e-02c34e150523
DTSTAMP:20210222T134108Z
SUMMARY:School Committee Meeting - Executive Session - REMOTE MEETING ONLIN
 E
URL;VALUE=URI:https://www.norwood.k12.ma.us/sc/calendar/2544448/school-comm
 ittee-meeting-executive-session-remote-meeting-online
DTSTART:20210303T230000Z
DTEND:20210304T000000Z
END:VEVENT
END:VCALENDAR
