BEGIN:VCALENDAR
VERSION:2.0
PRODID:SchoolNow
CALSCALE:GREGORIAN
BEGIN:VEVENT
UID:b34ece82-7513-11eb-a125-02c34e150523
DTSTAMP:20210222T134143Z
SUMMARY:School Committee Meeting - REMOTE MEETING ONLINE
URL;VALUE=URI:https://www.norwood.k12.ma.us/sc/calendar/2544450/school-comm
 ittee-meeting-remote-meeting-online
DTSTART:20210304T000000Z
DTEND:20210304T010000Z
END:VEVENT
END:VCALENDAR
