BEGIN:VCALENDAR
VERSION:2.0
PRODID:SchoolNow
CALSCALE:GREGORIAN
BEGIN:VEVENT
UID:742c7692-7ce7-11eb-a83f-0ae7a5876821
DTSTAMP:20210304T124509Z
SUMMARY:School Committee Policy Sub Committee Meeting - REMOTE MEETING ONLI
 NE
URL;VALUE=URI:https://www.norwood.k12.ma.us/sc/calendar/2551892/school-comm
 ittee-policy-sub-committee-meeting-remote-meeting-online
DTSTART:20210308T160000Z
DTEND:20210308T170000Z
END:VEVENT
END:VCALENDAR
