BEGIN:VCALENDAR
VERSION:2.0
PRODID:SchoolNow
CALSCALE:GREGORIAN
BEGIN:VEVENT
UID:b813b1d4-7d1b-11eb-8ef7-02bc000413a1
DTSTAMP:20210304T185917Z
SUMMARY:School Committee Executive Session - REMOTE MEETING ONLINE
URL;VALUE=URI:https://www.norwood.k12.ma.us/sc/calendar/2552113/school-comm
 ittee-executive-session-remote-meeting-online
DTSTART:20210311T210000Z
DTEND:20210311T220000Z
END:VEVENT
END:VCALENDAR
