BEGIN:VCALENDAR
VERSION:2.0
PRODID:SchoolNow
CALSCALE:GREGORIAN
BEGIN:VEVENT
UID:b28d6056-8587-11eb-ba48-0abae48c4933
DTSTAMP:20210315T121222Z
SUMMARY:School Committee - Executive Session - REMOTE MEETING ONLINE
URL;VALUE=URI:https://www.norwood.k12.ma.us/sc/calendar/2556477/school-comm
 ittee-executive-session-remote-meeting-online
DTSTART:20210317T210000Z
DTEND:20210317T220000Z
END:VEVENT
END:VCALENDAR
