BEGIN:VCALENDAR
VERSION:2.0
PRODID:SchoolNow
CALSCALE:GREGORIAN
BEGIN:VEVENT
UID:d9be9182-8bd5-11eb-acca-0a59a6107091
DTSTAMP:20210323T124656Z
SUMMARY:School Committee Meeting - REMOTE MEETING ONLINE
URL;VALUE=URI:https://www.norwood.k12.ma.us/sc/calendar/2560683/school-comm
 ittee-meeting-remote-meeting-online
DTSTART:20210331T230000Z
DTEND:20210401T000000Z
END:VEVENT
END:VCALENDAR
