BEGIN:VCALENDAR
VERSION:2.0
PRODID:SchoolNow
CALSCALE:GREGORIAN
BEGIN:VEVENT
UID:7aec1f06-9609-11eb-b854-02f64016d581
DTSTAMP:20210405T122142Z
SUMMARY:School Committee Executive Session - REMOTE MEETING ONLINE
URL;VALUE=URI:https://www.norwood.k12.ma.us/sc/calendar/2566620/school-comm
 ittee-executive-session-remote-meeting-online
DTSTART:20210412T230000Z
DTEND:20210413T000000Z
END:VEVENT
END:VCALENDAR
