BEGIN:VCALENDAR
VERSION:2.0
PRODID:SchoolNow
CALSCALE:GREGORIAN
BEGIN:VEVENT
UID:44be36e6-9c51-11eb-96e2-025a70d660ed
DTSTAMP:20210413T121042Z
SUMMARY:School Committee Budget Sub Committee Meeting - REMOTE MEETING ONLI
 NE
URL;VALUE=URI:https://www.norwood.k12.ma.us/sc/calendar/2574690/school-comm
 ittee-budget-sub-committee-meeting-remote-meeting-online
DTSTART:20210415T163000Z
DTEND:20210415T173000Z
END:VEVENT
END:VCALENDAR
