BEGIN:VCALENDAR
VERSION:2.0
PRODID:SchoolNow
CALSCALE:GREGORIAN
BEGIN:VEVENT
UID:9fa86a8c-a623-11eb-b5db-0af1ade72bf7
DTSTAMP:20210426T000909Z
SUMMARY:School Committee Executive Session - REMOTE MEETING ONLINE
URL;VALUE=URI:https://www.norwood.k12.ma.us/sc/calendar/2585913/school-comm
 ittee-executive-session-remote-meeting-online-clone
DTSTART:20210426T223000Z
DTEND:20210426T233000Z
END:VEVENT
END:VCALENDAR
