BEGIN:VCALENDAR
VERSION:2.0
PRODID:SchoolNow
CALSCALE:GREGORIAN
BEGIN:VEVENT
UID:cb3cde14-a8e2-11eb-928c-0e042c20d971
DTSTAMP:20210429T120239Z
SUMMARY:School Committee Budget Sub Committee Meeting - REMOTE MEETING ONLI
 NE
URL;VALUE=URI:https://www.norwood.k12.ma.us/sc/calendar/2588996/school-comm
 ittee-budget-sub-committee-meeting-remote-meeting-online
DTSTART:20210505T160000Z
DTEND:20210505T170000Z
END:VEVENT
END:VCALENDAR
