BEGIN:VCALENDAR
VERSION:2.0
PRODID:SchoolNow
CALSCALE:GREGORIAN
BEGIN:VEVENT
UID:dfe726da-a8e2-11eb-a935-0e042c20d971
DTSTAMP:20210429T120313Z
SUMMARY:School Committee Executive Session - REMOTE MEETING ONLINE
URL;VALUE=URI:https://www.norwood.k12.ma.us/sc/calendar/2588998/school-comm
 ittee-executive-session-remote-meeting-online
DTSTART:20210506T223000Z
DTEND:20210506T233000Z
END:VEVENT
END:VCALENDAR
