BEGIN:VCALENDAR
VERSION:2.0
PRODID:SchoolNow
CALSCALE:GREGORIAN
BEGIN:VEVENT
UID:fb9d4df0-a914-11eb-a40f-0235e5ecd101
DTSTAMP:20210429T180155Z
SUMMARY:School Committee Policy Sub Committee Meeting - REMOTE MEETING ONLI
 NE
URL;VALUE=URI:https://www.norwood.k12.ma.us/sc/calendar/2589608/school-comm
 ittee-policy-sub-committee-meeting-remote-meeting-online
DTSTART:20210511T160000Z
DTEND:20210511T170000Z
END:VEVENT
END:VCALENDAR
