BEGIN:VCALENDAR
VERSION:2.0
PRODID:SchoolNow
CALSCALE:GREGORIAN
BEGIN:VEVENT
UID:9cd2648c-b3e0-11eb-8ffe-02923be30081
DTSTAMP:20210513T114517Z
SUMMARY:School Committee Executive Session - REMOTE MEETING ONLINE
URL;VALUE=URI:https://www.norwood.k12.ma.us/sc/calendar/2599462/school-comm
 ittee-executive-session-remote-meeting-online
DTSTART:20210518T220000Z
DTEND:20210518T230000Z
END:VEVENT
END:VCALENDAR
