BEGIN:VCALENDAR
VERSION:2.0
PRODID:SchoolNow
CALSCALE:GREGORIAN
BEGIN:VEVENT
UID:6f0a8c40-bef4-11eb-8699-0ec9cadac65f
DTSTAMP:20210527T141158Z
SUMMARY:School Committee Professional Development
URL;VALUE=URI:https://www.norwood.k12.ma.us/sc/calendar/2606785/school-comm
 ittee-professional-development
DTSTART:20210603T220000Z
DTEND:20210604T000000Z
END:VEVENT
END:VCALENDAR
