BEGIN:VCALENDAR
VERSION:2.0
PRODID:SchoolNow
CALSCALE:GREGORIAN
BEGIN:VEVENT
UID:823f2276-bef4-11eb-b1c0-0ec9cadac65f
DTSTAMP:20210527T141058Z
SUMMARY:School Committee Executive Session - REMOTE MEETING ONLINE
URL;VALUE=URI:https://www.norwood.k12.ma.us/sc/calendar/2606787/school-comm
 ittee-executive-session-remote-meeting-online
DTSTART:20210604T000000Z
DTEND:20210604T010000Z
END:VEVENT
END:VCALENDAR
