BEGIN:VCALENDAR
VERSION:2.0
PRODID:SchoolNow
CALSCALE:GREGORIAN
BEGIN:VEVENT
UID:957c56d8-bef4-11eb-a8cd-0ec9cadac65f
DTSTAMP:20210527T141113Z
SUMMARY:School Committee Professional Development
URL;VALUE=URI:https://www.norwood.k12.ma.us/sc/calendar/2606789/school-comm
 ittee-professional-development
DTSTART:20210610T230000Z
DTEND:20210611T000000Z
END:VEVENT
END:VCALENDAR
