BEGIN:VCALENDAR
VERSION:2.0
PRODID:SchoolNow
CALSCALE:GREGORIAN
BEGIN:VEVENT
UID:adb747d0-bef4-11eb-922d-0ec9cadac65f
DTSTAMP:20210527T140643Z
SUMMARY:School Committee Meeting - REMOTE MEETING ONLINE
URL;VALUE=URI:https://www.norwood.k12.ma.us/sc/calendar/2606791/school-comm
 ittee-meeting-remote-meeting-online
DTSTART:20210707T230000Z
DTEND:20210708T000000Z
END:VEVENT
END:VCALENDAR
