BEGIN:VCALENDAR
VERSION:2.0
PRODID:SchoolNow
CALSCALE:GREGORIAN
BEGIN:VEVENT
UID:d981f3b0-bef4-11eb-953f-0ec9cadac65f
DTSTAMP:20210722T122125Z
SUMMARY:School Committee Meeting - REMOTE MEETING ONLINE
URL;VALUE=URI:https://www.norwood.k12.ma.us/sc/calendar/2606793/school-comm
 ittee-meeting-remote-meeting-online
DTSTART:20210804T233000Z
DTEND:20210805T003000Z
END:VEVENT
END:VCALENDAR
