BEGIN:VCALENDAR
VERSION:2.0
PRODID:SchoolNow
CALSCALE:GREGORIAN
BEGIN:VEVENT
UID:397eb134-c393-11eb-bb74-0e9e8dd162af
DTSTAMP:20210602T111105Z
SUMMARY:School Committee Budget Sub Committee Meeting - REMOTE MEETING ONLI
 NE
URL;VALUE=URI:https://www.norwood.k12.ma.us/sc/calendar/2609466/school-comm
 ittee-budget-sub-committee-meeting-remote-meeting-online
DTSTART:20210608T163000Z
DTEND:20210608T173000Z
END:VEVENT
END:VCALENDAR
