BEGIN:VCALENDAR
VERSION:2.0
PRODID:SchoolNow
CALSCALE:GREGORIAN
BEGIN:VEVENT
UID:69db9eca-c922-11eb-9949-0a75e2af6d59
DTSTAMP:20210609T125840Z
SUMMARY:School Committee Policy Sub Committee Meeting - REMOTE MEETING ONLI
 NE
URL;VALUE=URI:https://www.norwood.k12.ma.us/sc/calendar/2615726/school-comm
 ittee-policy-sub-committee-meeting-remote-meeting-online
DTSTART:20210615T173000Z
DTEND:20210615T183000Z
END:VEVENT
END:VCALENDAR
