BEGIN:VCALENDAR
VERSION:2.0
PRODID:SchoolNow
CALSCALE:GREGORIAN
BEGIN:VEVENT
UID:eeb8da90-d034-11eb-a70d-0ecf42fd7255
DTSTAMP:20210618T125852Z
SUMMARY:School Committee Policy Sub Committee Meeting - REMOTE MEETING ONLI
 NE
URL;VALUE=URI:https://www.norwood.k12.ma.us/sc/calendar/2623427/school-comm
 ittee-policy-sub-committee-meeting-remote-meeting-online
DTSTART:20210622T153000Z
DTEND:20210622T163000Z
END:VEVENT
END:VCALENDAR
