BEGIN:VCALENDAR
VERSION:2.0
PRODID:SchoolNow
CALSCALE:GREGORIAN
BEGIN:VEVENT
UID:b5c16a90-d2b4-11eb-b3da-0a4075b9472d
DTSTAMP:20210621T171835Z
SUMMARY:School Committee - Executive Session - REMOTE
URL;VALUE=URI:https://www.norwood.k12.ma.us/sc/calendar/2624543/school-comm
 ittee-executive-session-remote
DTSTART:20210623T223000Z
DTEND:20210623T230000Z
END:VEVENT
END:VCALENDAR
