BEGIN:VCALENDAR
VERSION:2.0
PRODID:SchoolNow
CALSCALE:GREGORIAN
BEGIN:VEVENT
UID:ccb2e06c-d2b4-11eb-8e84-0a4075b9472d
DTSTAMP:20210621T171913Z
SUMMARY:School Committee Policy Sub Committee Meeting - REMOTE MEETING ONLI
 NE
URL;VALUE=URI:https://www.norwood.k12.ma.us/sc/calendar/2624545/school-comm
 ittee-policy-sub-committee-meeting-remote-meeting-online
DTSTART:20210625T173000Z
DTEND:20210625T183000Z
END:VEVENT
END:VCALENDAR
