BEGIN:VCALENDAR
VERSION:2.0
PRODID:SchoolNow
CALSCALE:GREGORIAN
BEGIN:VEVENT
UID:1e5dd716-da65-11eb-8383-0e2785db682b
DTSTAMP:20210701T120900Z
SUMMARY:School Committee Policy Sub Committee Meeting - REMOTE MEETING ONLI
 NE
URL;VALUE=URI:https://www.norwood.k12.ma.us/sc/calendar/2632945/school-comm
 ittee-policy-sub-committee-meeting-remote-meeting-online
DTSTART:20210803T163000Z
DTEND:20210803T173000Z
END:VEVENT
END:VCALENDAR
