BEGIN:VCALENDAR
VERSION:2.0
PRODID:SchoolNow
CALSCALE:GREGORIAN
BEGIN:VEVENT
UID:65573418-eae7-11eb-97ab-02a4be7f71ad
DTSTAMP:20210722T122152Z
SUMMARY:School Committee Meeting - Executive Session - REMOTE MEETING ONLIN
 E
URL;VALUE=URI:https://www.norwood.k12.ma.us/sc/calendar/2645272/school-comm
 ittee-meeting-executive-session-remote-meeting-online
DTSTART:20210804T230000Z
DTEND:20210805T000000Z
END:VEVENT
END:VCALENDAR
