BEGIN:VCALENDAR
VERSION:2.0
PRODID:SchoolNow
CALSCALE:GREGORIAN
BEGIN:VEVENT
UID:e035f40c-f5e7-11eb-b154-02efefa54b73
DTSTAMP:20210830T152741Z
SUMMARY:School Committee Meeting - REMOTE MEETING ONLINE
URL;VALUE=URI:https://www.norwood.k12.ma.us/sc/calendar/2655550/school-comm
 ittee-meeting-location-tbd
DTSTART:20210901T233000Z
DTEND:20210902T003000Z
END:VEVENT
END:VCALENDAR
