BEGIN:VCALENDAR
VERSION:2.0
PRODID:SchoolNow
CALSCALE:GREGORIAN
BEGIN:VEVENT
UID:15ce13b4-f5e9-11eb-a269-02efefa54b73
DTSTAMP:20210902T192934Z
SUMMARY:School Committee Meeting - REMOTE MEETING ONLINE
URL;VALUE=URI:https://www.norwood.k12.ma.us/sc/calendar/2655554/school-comm
 ittee-meeting-location-tbd
DTSTART:20210908T230000Z
DTEND:20210909T000000Z
END:VEVENT
END:VCALENDAR
