BEGIN:VCALENDAR
VERSION:2.0
PRODID:SchoolNow
CALSCALE:GREGORIAN
BEGIN:VEVENT
UID:227b3ef2-f5e9-11eb-bf72-02efefa54b73
DTSTAMP:20210902T192952Z
SUMMARY:School Committee Meeting - REMOTE MEETING ONLINE
URL;VALUE=URI:https://www.norwood.k12.ma.us/sc/calendar/2655556/school-comm
 ittee-meeting-location-tbd
DTSTART:20210922T230000Z
DTEND:20210923T000000Z
END:VEVENT
END:VCALENDAR
