BEGIN:VCALENDAR
VERSION:2.0
PRODID:SchoolNow
CALSCALE:GREGORIAN
BEGIN:VEVENT
UID:2fcae242-f5e9-11eb-a4ab-02efefa54b73
DTSTAMP:20210902T192958Z
SUMMARY:School Committee Meeting - REMOTE MEETING ONLINE
URL;VALUE=URI:https://www.norwood.k12.ma.us/sc/calendar/2655558/school-comm
 ittee-meeting-location-tbd
DTSTART:20211006T230000Z
DTEND:20211007T000000Z
END:VEVENT
END:VCALENDAR
